BEGIN:VCALENDAR
VERSION:2.0
PRODID:-//AI Education Hub | Center for AI Technology (CAIT) - ECPv6.15.20//NONSGML v1.0//EN
CALSCALE:GREGORIAN
METHOD:PUBLISH
X-ORIGINAL-URL:https://caitnj.org
X-WR-CALDESC:Events for AI Education Hub | Center for AI Technology (CAIT)
REFRESH-INTERVAL;VALUE=DURATION:PT1H
X-Robots-Tag:noindex
X-PUBLISHED-TTL:PT1H
BEGIN:VTIMEZONE
TZID:UTC
BEGIN:STANDARD
TZOFFSETFROM:+0000
TZOFFSETTO:+0000
TZNAME:UTC
DTSTART:20250101T000000
END:STANDARD
END:VTIMEZONE
BEGIN:VEVENT
DTSTART;TZID=UTC:20260421T000000
DTEND;TZID=UTC:20260421T000000
DTSTAMP:20260420T091059
CREATED:20260202T202554Z
LAST-MODIFIED:20260202T202554Z
UID:1972-1776729600-1776729600@caitnj.org
SUMMARY:AI & Automation Bootcamp
DESCRIPTION:
URL:https://caitnj.org/event/ai-automation-bootcamp-2-3/
LOCATION:Ideal Institute of Technology\, 1000 W Washington Ave\, Pleasantville\, NJ\, 08232\, United States
END:VEVENT
END:VCALENDAR